BEGIN:VCALENDAR
VERSION:2.0
PRODID:-//The Churn Community Hub - ECPv6.15.20//NONSGML v1.0//EN
CALSCALE:GREGORIAN
METHOD:PUBLISH
X-WR-CALNAME:The Churn Community Hub
X-ORIGINAL-URL:https://www.thechurn.org.uk
X-WR-CALDESC:Events for The Churn Community Hub
REFRESH-INTERVAL;VALUE=DURATION:PT1H
X-Robots-Tag:noindex
X-PUBLISHED-TTL:PT1H
BEGIN:VTIMEZONE
TZID:Europe/London
BEGIN:DAYLIGHT
TZOFFSETFROM:+0000
TZOFFSETTO:+0100
TZNAME:BST
DTSTART:20240331T010000
END:DAYLIGHT
BEGIN:STANDARD
TZOFFSETFROM:+0100
TZOFFSETTO:+0000
TZNAME:GMT
DTSTART:20241027T010000
END:STANDARD
BEGIN:DAYLIGHT
TZOFFSETFROM:+0000
TZOFFSETTO:+0100
TZNAME:BST
DTSTART:20250330T010000
END:DAYLIGHT
BEGIN:STANDARD
TZOFFSETFROM:+0100
TZOFFSETTO:+0000
TZNAME:GMT
DTSTART:20251026T010000
END:STANDARD
BEGIN:DAYLIGHT
TZOFFSETFROM:+0000
TZOFFSETTO:+0100
TZNAME:BST
DTSTART:20260329T010000
END:DAYLIGHT
BEGIN:STANDARD
TZOFFSETFROM:+0100
TZOFFSETTO:+0000
TZNAME:GMT
DTSTART:20261025T010000
END:STANDARD
BEGIN:DAYLIGHT
TZOFFSETFROM:+0000
TZOFFSETTO:+0100
TZNAME:BST
DTSTART:20270328T010000
END:DAYLIGHT
BEGIN:STANDARD
TZOFFSETFROM:+0100
TZOFFSETTO:+0000
TZNAME:GMT
DTSTART:20271031T010000
END:STANDARD
END:VTIMEZONE
BEGIN:VEVENT
DTSTART;TZID=Europe/London:20260420T140000
DTEND;TZID=Europe/London:20260420T150000
DTSTAMP:20260422T081325
CREATED:20260302T111220Z
LAST-MODIFIED:20260413T084519Z
UID:10009817-1776693600-1776697200@www.thechurn.org.uk
SUMMARY:Bereavement Café
DESCRIPTION:The Churn Project Bereavement Café is a monthly peer support group for those affected by loss. We run the group in a relaxed and safe environment that brings people together to talk and feel less alone and isolated. \nThe Bereavement Café runs on the second Monday of each month\, at The Bothy on Ashcroft Road\, Cirencester. \nFor more information\, please contact Sarah.
URL:https://www.thechurn.org.uk/event/bereavement-cafe-2-2/
LOCATION:The Bothy
CATEGORIES:Ageing Well
ATTACH;FMTTYPE=image/jpeg:https://www.thechurn.org.uk/wp-content/uploads/2025/07/BC-Idea-for-picture-scaled.jpg
END:VEVENT
BEGIN:VEVENT
DTSTART;TZID=Europe/London:20260115T140000
DTEND;TZID=Europe/London:20260115T153000
DTSTAMP:20260422T081325
CREATED:20250716T115231Z
LAST-MODIFIED:20250729T140045Z
UID:10009816-1768485600-1768491000@www.thechurn.org.uk
SUMMARY:Bereavement Café
DESCRIPTION:The Churn Project Bereavement Café is a monthly peer support group for those affected by loss. We run the group in a relaxed and safe environment that brings people together to talk and feel less alone and isolated. \nThe Bereavement Café runs on the second Monday of each month\, at The Bothy on Ashcroft Road\, Cirencester. \nFor more information\, please contact Sarah.
URL:https://www.thechurn.org.uk/event/bereavement-cafe-2/2026-01-15/
LOCATION:The Bothy
CATEGORIES:Ageing Well
ATTACH;FMTTYPE=image/jpeg:https://www.thechurn.org.uk/wp-content/uploads/2025/07/BC-Idea-for-picture-scaled.jpg
END:VEVENT
BEGIN:VEVENT
DTSTART;TZID=Europe/London:20251215T140000
DTEND;TZID=Europe/London:20251215T153000
DTSTAMP:20260422T081325
CREATED:20250716T115231Z
LAST-MODIFIED:20250729T140045Z
UID:10007733-1765807200-1765812600@www.thechurn.org.uk
SUMMARY:Bereavement Café
DESCRIPTION:The Churn Project Bereavement Café is a monthly peer support group for those affected by loss. We run the group in a relaxed and safe environment that brings people together to talk and feel less alone and isolated. \nThe Bereavement Café runs on the second Monday of each month\, at The Bothy on Ashcroft Road\, Cirencester. \nFor more information\, please contact Sarah.
URL:https://www.thechurn.org.uk/event/bereavement-cafe-2/2025-12-15/
LOCATION:The Bothy
CATEGORIES:Ageing Well
ATTACH;FMTTYPE=image/jpeg:https://www.thechurn.org.uk/wp-content/uploads/2025/07/BC-Idea-for-picture-scaled.jpg
END:VEVENT
BEGIN:VEVENT
DTSTART;TZID=Europe/London:20251208T140000
DTEND;TZID=Europe/London:20251208T153000
DTSTAMP:20260422T081325
CREATED:20250520T140518Z
LAST-MODIFIED:20250606T113425Z
UID:10006317-1765202400-1765207800@www.thechurn.org.uk
SUMMARY:Bereavement Café
DESCRIPTION:The Churn Project Bereavement Café is a monthly peer support group for those affected by loss. We run the group in a relaxed and safe environment that brings people together to talk and feel less alone and isolated. \nThe Bereavement Café runs on the second Monday of each month\, at The Bothy on Ashcroft Road\, Cirencester. \nFor more information\, please contact Sarah.
URL:https://www.thechurn.org.uk/event/bereavement-cafe/2025-12-08/
LOCATION:The Bothy
CATEGORIES:Ageing Well
ATTACH;FMTTYPE=image/png:https://www.thechurn.org.uk/wp-content/uploads/2024/04/Ageing-Well-1.png
END:VEVENT
BEGIN:VEVENT
DTSTART;TZID=Europe/London:20251115T140000
DTEND;TZID=Europe/London:20251115T153000
DTSTAMP:20260422T081325
CREATED:20250716T115231Z
LAST-MODIFIED:20250729T140045Z
UID:10009815-1763215200-1763220600@www.thechurn.org.uk
SUMMARY:Bereavement Café
DESCRIPTION:The Churn Project Bereavement Café is a monthly peer support group for those affected by loss. We run the group in a relaxed and safe environment that brings people together to talk and feel less alone and isolated. \nThe Bereavement Café runs on the second Monday of each month\, at The Bothy on Ashcroft Road\, Cirencester. \nFor more information\, please contact Sarah.
URL:https://www.thechurn.org.uk/event/bereavement-cafe-2/2025-11-15/
LOCATION:The Bothy
CATEGORIES:Ageing Well
ATTACH;FMTTYPE=image/jpeg:https://www.thechurn.org.uk/wp-content/uploads/2025/07/BC-Idea-for-picture-scaled.jpg
END:VEVENT
BEGIN:VEVENT
DTSTART;TZID=Europe/London:20251110T140000
DTEND;TZID=Europe/London:20251110T153000
DTSTAMP:20260422T081325
CREATED:20250520T140518Z
LAST-MODIFIED:20250606T113425Z
UID:10006316-1762783200-1762788600@www.thechurn.org.uk
SUMMARY:Bereavement Café
DESCRIPTION:The Churn Project Bereavement Café is a monthly peer support group for those affected by loss. We run the group in a relaxed and safe environment that brings people together to talk and feel less alone and isolated. \nThe Bereavement Café runs on the second Monday of each month\, at The Bothy on Ashcroft Road\, Cirencester. \nFor more information\, please contact Sarah.
URL:https://www.thechurn.org.uk/event/bereavement-cafe/2025-11-10/
LOCATION:The Bothy
CATEGORIES:Ageing Well
ATTACH;FMTTYPE=image/png:https://www.thechurn.org.uk/wp-content/uploads/2024/04/Ageing-Well-1.png
END:VEVENT
BEGIN:VEVENT
DTSTART;TZID=Europe/London:20251015T140000
DTEND;TZID=Europe/London:20251015T153000
DTSTAMP:20260422T081325
CREATED:20250716T115231Z
LAST-MODIFIED:20250729T140045Z
UID:10009814-1760536800-1760542200@www.thechurn.org.uk
SUMMARY:Bereavement Café
DESCRIPTION:The Churn Project Bereavement Café is a monthly peer support group for those affected by loss. We run the group in a relaxed and safe environment that brings people together to talk and feel less alone and isolated. \nThe Bereavement Café runs on the second Monday of each month\, at The Bothy on Ashcroft Road\, Cirencester. \nFor more information\, please contact Sarah.
URL:https://www.thechurn.org.uk/event/bereavement-cafe-2/2025-10-15/
LOCATION:The Bothy
CATEGORIES:Ageing Well
ATTACH;FMTTYPE=image/jpeg:https://www.thechurn.org.uk/wp-content/uploads/2025/07/BC-Idea-for-picture-scaled.jpg
END:VEVENT
BEGIN:VEVENT
DTSTART;TZID=Europe/London:20251013T140000
DTEND;TZID=Europe/London:20251013T153000
DTSTAMP:20260422T081325
CREATED:20250520T140518Z
LAST-MODIFIED:20250606T113425Z
UID:10006315-1760364000-1760369400@www.thechurn.org.uk
SUMMARY:Bereavement Café
DESCRIPTION:The Churn Project Bereavement Café is a monthly peer support group for those affected by loss. We run the group in a relaxed and safe environment that brings people together to talk and feel less alone and isolated. \nThe Bereavement Café runs on the second Monday of each month\, at The Bothy on Ashcroft Road\, Cirencester. \nFor more information\, please contact Sarah.
URL:https://www.thechurn.org.uk/event/bereavement-cafe/2025-10-13/
LOCATION:The Bothy
CATEGORIES:Ageing Well
ATTACH;FMTTYPE=image/png:https://www.thechurn.org.uk/wp-content/uploads/2024/04/Ageing-Well-1.png
END:VEVENT
BEGIN:VEVENT
DTSTART;TZID=Europe/London:20250915T140000
DTEND;TZID=Europe/London:20250915T153000
DTSTAMP:20260422T081325
CREATED:20250716T115231Z
LAST-MODIFIED:20250729T140045Z
UID:10007730-1757944800-1757950200@www.thechurn.org.uk
SUMMARY:Bereavement Café
DESCRIPTION:The Churn Project Bereavement Café is a monthly peer support group for those affected by loss. We run the group in a relaxed and safe environment that brings people together to talk and feel less alone and isolated. \nThe Bereavement Café runs on the second Monday of each month\, at The Bothy on Ashcroft Road\, Cirencester. \nFor more information\, please contact Sarah.
URL:https://www.thechurn.org.uk/event/bereavement-cafe-2/2025-09-15/
LOCATION:The Bothy
CATEGORIES:Ageing Well
ATTACH;FMTTYPE=image/jpeg:https://www.thechurn.org.uk/wp-content/uploads/2025/07/BC-Idea-for-picture-scaled.jpg
END:VEVENT
BEGIN:VEVENT
DTSTART;TZID=Europe/London:20250908T140000
DTEND;TZID=Europe/London:20250908T153000
DTSTAMP:20260422T081325
CREATED:20250520T140518Z
LAST-MODIFIED:20250606T113425Z
UID:10006314-1757340000-1757345400@www.thechurn.org.uk
SUMMARY:Bereavement Café
DESCRIPTION:The Churn Project Bereavement Café is a monthly peer support group for those affected by loss. We run the group in a relaxed and safe environment that brings people together to talk and feel less alone and isolated. \nThe Bereavement Café runs on the second Monday of each month\, at The Bothy on Ashcroft Road\, Cirencester. \nFor more information\, please contact Sarah.
URL:https://www.thechurn.org.uk/event/bereavement-cafe/2025-09-08/
LOCATION:The Bothy
CATEGORIES:Ageing Well
ATTACH;FMTTYPE=image/png:https://www.thechurn.org.uk/wp-content/uploads/2024/04/Ageing-Well-1.png
END:VEVENT
BEGIN:VEVENT
DTSTART;TZID=Europe/London:20250811T140000
DTEND;TZID=Europe/London:20250811T153000
DTSTAMP:20260422T081325
CREATED:20250520T140518Z
LAST-MODIFIED:20250606T113425Z
UID:10006313-1754920800-1754926200@www.thechurn.org.uk
SUMMARY:Bereavement Café
DESCRIPTION:The Churn Project Bereavement Café is a monthly peer support group for those affected by loss. We run the group in a relaxed and safe environment that brings people together to talk and feel less alone and isolated. \nThe Bereavement Café runs on the second Monday of each month\, at The Bothy on Ashcroft Road\, Cirencester. \nFor more information\, please contact Sarah.
URL:https://www.thechurn.org.uk/event/bereavement-cafe/2025-08-11/
LOCATION:The Bothy
CATEGORIES:Ageing Well
ATTACH;FMTTYPE=image/png:https://www.thechurn.org.uk/wp-content/uploads/2024/04/Ageing-Well-1.png
END:VEVENT
BEGIN:VEVENT
DTSTART;TZID=Europe/London:20250714T140000
DTEND;TZID=Europe/London:20250714T153000
DTSTAMP:20260422T081325
CREATED:20250520T140518Z
LAST-MODIFIED:20250606T113425Z
UID:10006312-1752501600-1752507000@www.thechurn.org.uk
SUMMARY:Bereavement Café
DESCRIPTION:The Churn Project Bereavement Café is a monthly peer support group for those affected by loss. We run the group in a relaxed and safe environment that brings people together to talk and feel less alone and isolated. \nThe Bereavement Café runs on the second Monday of each month\, at The Bothy on Ashcroft Road\, Cirencester. \nFor more information\, please contact Sarah.
URL:https://www.thechurn.org.uk/event/bereavement-cafe/2025-07-14/
LOCATION:The Bothy
CATEGORIES:Ageing Well
ATTACH;FMTTYPE=image/png:https://www.thechurn.org.uk/wp-content/uploads/2024/04/Ageing-Well-1.png
END:VEVENT
BEGIN:VEVENT
DTSTART;TZID=Europe/London:20250609T140000
DTEND;TZID=Europe/London:20250609T153000
DTSTAMP:20260422T081325
CREATED:20250520T140518Z
LAST-MODIFIED:20250606T113425Z
UID:10006311-1749477600-1749483000@www.thechurn.org.uk
SUMMARY:Bereavement Café
DESCRIPTION:The Churn Project Bereavement Café is a monthly peer support group for those affected by loss. We run the group in a relaxed and safe environment that brings people together to talk and feel less alone and isolated. \nThe Bereavement Café runs on the second Monday of each month\, at The Bothy on Ashcroft Road\, Cirencester. \nFor more information\, please contact Sarah.
URL:https://www.thechurn.org.uk/event/bereavement-cafe/2025-06-09/
LOCATION:The Bothy
CATEGORIES:Ageing Well
ATTACH;FMTTYPE=image/png:https://www.thechurn.org.uk/wp-content/uploads/2024/04/Ageing-Well-1.png
END:VEVENT
END:VCALENDAR