BEGIN:VCALENDAR
VERSION:2.0
PRODID:-//The Churn Community Hub - ECPv6.15.20//NONSGML v1.0//EN
CALSCALE:GREGORIAN
METHOD:PUBLISH
X-ORIGINAL-URL:https://www.thechurn.org.uk
X-WR-CALDESC:Events for The Churn Community Hub
REFRESH-INTERVAL;VALUE=DURATION:PT1H
X-Robots-Tag:noindex
X-PUBLISHED-TTL:PT1H
BEGIN:VTIMEZONE
TZID:Europe/London
BEGIN:DAYLIGHT
TZOFFSETFROM:+0000
TZOFFSETTO:+0100
TZNAME:BST
DTSTART:20240331T010000
END:DAYLIGHT
BEGIN:STANDARD
TZOFFSETFROM:+0100
TZOFFSETTO:+0000
TZNAME:GMT
DTSTART:20241027T010000
END:STANDARD
BEGIN:DAYLIGHT
TZOFFSETFROM:+0000
TZOFFSETTO:+0100
TZNAME:BST
DTSTART:20250330T010000
END:DAYLIGHT
BEGIN:STANDARD
TZOFFSETFROM:+0100
TZOFFSETTO:+0000
TZNAME:GMT
DTSTART:20251026T010000
END:STANDARD
BEGIN:DAYLIGHT
TZOFFSETFROM:+0000
TZOFFSETTO:+0100
TZNAME:BST
DTSTART:20260329T010000
END:DAYLIGHT
BEGIN:STANDARD
TZOFFSETFROM:+0100
TZOFFSETTO:+0000
TZNAME:GMT
DTSTART:20261025T010000
END:STANDARD
END:VTIMEZONE
BEGIN:VEVENT
DTSTART;TZID=Europe/London:20250609T140000
DTEND;TZID=Europe/London:20250609T153000
DTSTAMP:20260422T094631
CREATED:20250520T140518Z
LAST-MODIFIED:20250606T113425Z
UID:10006311-1749477600-1749483000@www.thechurn.org.uk
SUMMARY:Bereavement Café
DESCRIPTION:The Churn Project Bereavement Café is a monthly peer support group for those affected by loss. We run the group in a relaxed and safe environment that brings people together to talk and feel less alone and isolated. \nThe Bereavement Café runs on the second Monday of each month\, at The Bothy on Ashcroft Road\, Cirencester. \nFor more information\, please contact Sarah.
URL:https://www.thechurn.org.uk/event/bereavement-cafe/2025-06-09/
LOCATION:The Bothy
CATEGORIES:Ageing Well
ATTACH;FMTTYPE=image/png:https://www.thechurn.org.uk/wp-content/uploads/2024/04/Ageing-Well-1.png
END:VEVENT
END:VCALENDAR