BEGIN:VCALENDAR
VERSION:2.0
PRODID:-//The Churn Community Hub - ECPv6.15.20//NONSGML v1.0//EN
CALSCALE:GREGORIAN
METHOD:PUBLISH
X-WR-CALNAME:The Churn Community Hub
X-ORIGINAL-URL:https://www.thechurn.org.uk
X-WR-CALDESC:Events for The Churn Community Hub
REFRESH-INTERVAL;VALUE=DURATION:PT1H
X-Robots-Tag:noindex
X-PUBLISHED-TTL:PT1H
BEGIN:VTIMEZONE
TZID:Europe/London
BEGIN:DAYLIGHT
TZOFFSETFROM:+0000
TZOFFSETTO:+0100
TZNAME:BST
DTSTART:20250330T010000
END:DAYLIGHT
BEGIN:STANDARD
TZOFFSETFROM:+0100
TZOFFSETTO:+0000
TZNAME:GMT
DTSTART:20251026T010000
END:STANDARD
BEGIN:DAYLIGHT
TZOFFSETFROM:+0000
TZOFFSETTO:+0100
TZNAME:BST
DTSTART:20260329T010000
END:DAYLIGHT
BEGIN:STANDARD
TZOFFSETFROM:+0100
TZOFFSETTO:+0000
TZNAME:GMT
DTSTART:20261025T010000
END:STANDARD
BEGIN:DAYLIGHT
TZOFFSETFROM:+0000
TZOFFSETTO:+0100
TZNAME:BST
DTSTART:20270328T010000
END:DAYLIGHT
BEGIN:STANDARD
TZOFFSETFROM:+0100
TZOFFSETTO:+0000
TZNAME:GMT
DTSTART:20271031T010000
END:STANDARD
END:VTIMEZONE
BEGIN:VEVENT
DTSTART;TZID=Europe/London:20260423T093000
DTEND;TZID=Europe/London:20260423T110000
DTSTAMP:20260423T104815
CREATED:20260330T122113Z
LAST-MODIFIED:20260330T122148Z
UID:10005337-1776936600-1776942000@www.thechurn.org.uk
SUMMARY:Families Matter Group (09.30am to 11.00am) - PLEASE BOOK
DESCRIPTION:Our Families Matter Group is a supportive parent and children playgroup in Cirencester for children aged two to four years old and their parents. You are also welcome to bring babies and younger siblings along as we understand how hard it can be to find groups for both ages. \nThis group is for fun\, play and meeting other parents in a friendly and informal space. The children will enjoy craft activities and messy play\, as well as a healthy snack. \nBooking essential for new families – For more information or to book onto the group\, please contact Rachel.
URL:https://www.thechurn.org.uk/event/families-matter-group-3/2026-04-23/
LOCATION:The Churn Project\, 14-16 The Waterloo\, Cirencester\, GL7 2PY\, United Kingdom
CATEGORIES:Family Service
ATTACH;FMTTYPE=image/jpeg:https://www.thechurn.org.uk/wp-content/uploads/2024/08/20241010_095254-scaled.jpg
END:VEVENT
BEGIN:VEVENT
DTSTART;TZID=Europe/London:20260423T093000
DTEND;TZID=Europe/London:20260423T123000
DTSTAMP:20260423T104815
CREATED:20250507T100244Z
LAST-MODIFIED:20250516T125148Z
UID:10002453-1776936600-1776947400@www.thechurn.org.uk
SUMMARY:Community Shed South Cerney
DESCRIPTION:Our Community Shed in South Cerney is an all inclusive community space for people of all ages to meet\, socialise and learn practical skills. \nThe Community Shed offers men and women the opportunity to share and develop their practical knowledge – including woodwork\, plumbing and DIY skills. You can work on you own personal projects or join in wider community projects taking place throughout the year. \nParticipants can access a wide variety of practical activities\, workshops and toolbox talks lead by knowledgeable and supportive staff and volunteers. You can also build your confidence\, self esteem and make some great friendships on the way. \n£2 suggested donation for each session. \nFor more information contact Graham.
URL:https://www.thechurn.org.uk/event/community-shed-south-cerney/2026-04-23/
LOCATION:Boxbush Community Centre\, South Cerney\, Boxbush Community Centre\, South Cerney\, GL7 5XJ
CATEGORIES:Community Wellbeing
ATTACH;FMTTYPE=image/jpeg:https://www.thechurn.org.uk/wp-content/uploads/2024/08/Mens-Shed-3-scaled.jpg
END:VEVENT
BEGIN:VEVENT
DTSTART;TZID=Europe/London:20260423T110000
DTEND;TZID=Europe/London:20260423T120000
DTSTAMP:20260423T104815
CREATED:20260416T125704Z
LAST-MODIFIED:20260416T125705Z
UID:10008599-1776942000-1776945600@www.thechurn.org.uk
SUMMARY:Positive Strides for All Cirencester
DESCRIPTION:Our Thursday Positive Strides walking group welcomes all adults in the community to participate in a walk around Cirencester. The walking group meets weekly on a Thursday morning and takes a variety of routes around the town\, including visiting local parks and woodlands. \nPositive Strides focuses on improving mental health and wellbeing through exercise\, connecting and talking with others. \nWalks start at 11.00am from outside The Churn Community Hub. \n\nFor more information\, contact Michelle on 01285 380 038 or email info@thechurn.org.uk
URL:https://www.thechurn.org.uk/event/positive-strides-for-all-cirencester-2-2-2/2026-04-23/
LOCATION:The Churn Community Hub\, 14-16 The Waterloo\, Cirencester\, Gloucestershire\, GL7 2PY\, United Kingdom
CATEGORIES:Community Wellbeing
ATTACH;FMTTYPE=image/jpeg:https://www.thechurn.org.uk/wp-content/uploads/2025/07/Positive-Strides-@-Amphitheatre-1--scaled.jpg
END:VEVENT
BEGIN:VEVENT
DTSTART;TZID=Europe/London:20260423T113000
DTEND;TZID=Europe/London:20260423T130000
DTSTAMP:20260423T104815
CREATED:20260330T122321Z
LAST-MODIFIED:20260330T122321Z
UID:10006780-1776943800-1776949200@www.thechurn.org.uk
SUMMARY:Families Matter Group (11.30am to 1.00pm) - PLEASE BOOK
DESCRIPTION:Our Families Matter Group is a supportive parent and children playgroup in Cirencester for children aged two to four years old and their parents. You are also welcome to bring babies and younger siblings along as we understand how hard it can be to find groups for both ages. \nThis group is for fun\, play and meeting other parents in a friendly and informal space. The children will enjoy craft activities and messy play\, as well as a healthy snack. \nBooking essential for new families. For more information or to book onto the group please contact Rachel
URL:https://www.thechurn.org.uk/event/families-matter-group-2-2/2026-04-23/
LOCATION:Cirencester Baptist Church\, Chesterton Lane\, Cirencester\, GL7 1YE\, United Kingdom
CATEGORIES:Family Service
ATTACH;FMTTYPE=image/jpeg:https://www.thechurn.org.uk/wp-content/uploads/2024/08/20241010_095254-scaled.jpg
END:VEVENT
BEGIN:VEVENT
DTSTART;TZID=Europe/London:20260423T130000
DTEND;TZID=Europe/London:20260423T150000
DTSTAMP:20260423T104815
CREATED:20251210T135457Z
LAST-MODIFIED:20251210T135457Z
UID:10009548-1776949200-1776956400@www.thechurn.org.uk
SUMMARY:Gamers Group
DESCRIPTION:Do you enjoy playing fantasy style games such as Dungeons and Dragons?  Would you like to meet other gamers and make new friendships? \nOur community Gamers Group is a vibrant and welcoming group for adults who love fantasy gaming. \nDevise your own games or join in with established games. You decide with others in the group what you would like to do. \nRefreshments are also available. \nContact Amanda for more information.
URL:https://www.thechurn.org.uk/event/gamers-group/2026-04-23/
LOCATION:The Churn Project\, 14-16 The Waterloo\, Cirencester\, GL7 2PY\, United Kingdom
CATEGORIES:Community Wellbeing
ATTACH;FMTTYPE=image/jpeg:https://www.thechurn.org.uk/wp-content/uploads/2024/10/alyzah-k-K24CPeh-T5U-unsplash.jpg
END:VEVENT
BEGIN:VEVENT
DTSTART;TZID=Europe/London:20260423T140000
DTEND;TZID=Europe/London:20260423T160000
DTSTAMP:20260423T104815
CREATED:20260330T100637Z
LAST-MODIFIED:20260330T100637Z
UID:10003503-1776952800-1776960000@www.thechurn.org.uk
SUMMARY:Creative and Wellbeing Young Adults Group
DESCRIPTION:Are you aged 18 to 25 and looking to join a friendly group to support your wellbeing and creativity? \nThis group is all about connection\, self-expression\, and having fun in a relaxed and welcoming environment. You’ll meet like-minded people\, build new friendships\, and discover the benefits of creativity for your wellbeing. \nWhether you’re passionate about music\, art\, or crafts\, we offer a wide range of activities to spark your imagination and give you the chance to learn new skills. It’s a great space to share your ideas\, explore new hobbies\, and nurture the talents you already have. \nThere will also be the opportunity for local trips and visits such as Ernest Cook Trust\, New Brewery Arts and Westonbirt. \nJoin us on Thursday afternoons\, 2pm to 4pm\, at The Churn Community Hub \nFor more information\, contact Amanda.
URL:https://www.thechurn.org.uk/event/creative-skills-workshop-for-18-26-year-olds-2-2/2026-04-23/
LOCATION:The Churn Project\, 14-16 The Waterloo\, Cirencester\, GL7 2PY\, United Kingdom
CATEGORIES:Community Wellbeing
ATTACH;FMTTYPE=image/jpeg:https://www.thechurn.org.uk/wp-content/uploads/2024/10/1000000131-scaled.jpg
END:VEVENT
END:VCALENDAR